BEGIN:VCALENDAR
VERSION:2.0
PRODID:-//Pine Eden Christian Retreat Center - ECPv6.15.18//NONSGML v1.0//EN
CALSCALE:GREGORIAN
METHOD:PUBLISH
X-WR-CALNAME:Pine Eden Christian Retreat Center
X-ORIGINAL-URL:https://www.pineeden.org
X-WR-CALDESC:Events for Pine Eden Christian Retreat Center
REFRESH-INTERVAL;VALUE=DURATION:PT1H
X-Robots-Tag:noindex
X-PUBLISHED-TTL:PT1H
BEGIN:VTIMEZONE
TZID:America/New_York
BEGIN:DAYLIGHT
TZOFFSETFROM:-0500
TZOFFSETTO:-0400
TZNAME:EDT
DTSTART:20240310T070000
END:DAYLIGHT
BEGIN:STANDARD
TZOFFSETFROM:-0400
TZOFFSETTO:-0500
TZNAME:EST
DTSTART:20241103T060000
END:STANDARD
BEGIN:DAYLIGHT
TZOFFSETFROM:-0500
TZOFFSETTO:-0400
TZNAME:EDT
DTSTART:20250309T070000
END:DAYLIGHT
BEGIN:STANDARD
TZOFFSETFROM:-0400
TZOFFSETTO:-0500
TZNAME:EST
DTSTART:20251102T060000
END:STANDARD
BEGIN:DAYLIGHT
TZOFFSETFROM:-0500
TZOFFSETTO:-0400
TZNAME:EDT
DTSTART:20260308T070000
END:DAYLIGHT
BEGIN:STANDARD
TZOFFSETFROM:-0400
TZOFFSETTO:-0500
TZNAME:EST
DTSTART:20261101T060000
END:STANDARD
END:VTIMEZONE
BEGIN:VEVENT
DTSTART;VALUE=DATE:20250731
DTEND;VALUE=DATE:20250803
DTSTAMP:20260420T074853
CREATED:20250610T163040Z
LAST-MODIFIED:20250610T163109Z
UID:1132-1753920000-1754179199@www.pineeden.org
SUMMARY:St. Paul Methodist Kids
DESCRIPTION:
URL:https://www.pineeden.org/event/st-paul-methodist-kids/
END:VEVENT
BEGIN:VEVENT
DTSTART;VALUE=DATE:20250808
DTEND;VALUE=DATE:20250811
DTSTAMP:20260420T074853
CREATED:20250610T163201Z
LAST-MODIFIED:20250610T163224Z
UID:1134-1754611200-1754870399@www.pineeden.org
SUMMARY:ATL Promise Church
DESCRIPTION:
URL:https://www.pineeden.org/event/atl-promise-church/
END:VEVENT
BEGIN:VEVENT
DTSTART;VALUE=DATE:20250822
DTEND;VALUE=DATE:20250823
DTSTAMP:20260420T074853
CREATED:20250610T163354Z
LAST-MODIFIED:20250610T163354Z
UID:1138-1755820800-1755907199@www.pineeden.org
SUMMARY:Immaculate Heart of Mary Day Visit
DESCRIPTION:
URL:https://www.pineeden.org/event/immaculate-heart-of-mary-day-visit/
END:VEVENT
BEGIN:VEVENT
DTSTART;VALUE=DATE:20250828
DTEND;VALUE=DATE:20250831
DTSTAMP:20260420T074853
CREATED:20250610T163429Z
LAST-MODIFIED:20250610T163429Z
UID:1140-1756339200-1756598399@www.pineeden.org
SUMMARY:Covington Gospel Mission Church Women
DESCRIPTION:
URL:https://www.pineeden.org/event/covington-gospel-mission-church-women/
END:VEVENT
END:VCALENDAR